BEGIN:VCALENDAR
VERSION:2.0
PRODID:-//9 Usual Suspects - ECPv6.15.20//NONSGML v1.0//EN
CALSCALE:GREGORIAN
METHOD:PUBLISH
X-ORIGINAL-URL:https://9usualsuspects.uk
X-WR-CALDESC:Events for 9 Usual Suspects
REFRESH-INTERVAL;VALUE=DURATION:PT1H
X-Robots-Tag:noindex
X-PUBLISHED-TTL:PT1H
BEGIN:VTIMEZONE
TZID:UTC
BEGIN:STANDARD
TZOFFSETFROM:+0000
TZOFFSETTO:+0000
TZNAME:UTC
DTSTART:20240101T000000
END:STANDARD
END:VTIMEZONE
BEGIN:VEVENT
DTSTART;TZID=UTC:20251025T170000
DTEND;TZID=UTC:20251025T200000
DTSTAMP:20260424T000905
CREATED:20250917T101710Z
LAST-MODIFIED:20250917T101710Z
UID:5627-1761411600-1761422400@9usualsuspects.uk
SUMMARY:GCBC2HX Happy Halloween by 9 Usual Suspects
DESCRIPTION:GCBC2HX Happy Halloween by 9 Usual Suspects Event D1/T1\nWhen: Saturday 25th October\nWhere: Plas Gwernoer\, Nantlle LL54 6BB\nParty Starts: 5pm\nParty Ends: 8pm or when the last person leaves\nAttire:  Optional Halloween Fancy dress\nA repeat of last years event with a few extra scary surprises. Wrap up warm\, as\, weather permitting\, we plan to have some outside activities including a pumpkin lantern competition. There will be prizes for adults and children\, to enter bring your carved pumpkin on the night. Of course there will be a BBQ and the bar will be open to late.
URL:https://9usualsuspects.uk/event/gcbc2hx-happy-halloween-by-9-usual-suspects/
END:VEVENT
END:VCALENDAR