BEGIN:VCALENDAR
VERSION:2.0
PRODID:-//9 Usual Suspects - ECPv6.15.20//NONSGML v1.0//EN
CALSCALE:GREGORIAN
METHOD:PUBLISH
X-WR-CALNAME:9 Usual Suspects
X-ORIGINAL-URL:https://9usualsuspects.uk
X-WR-CALDESC:Events for 9 Usual Suspects
REFRESH-INTERVAL;VALUE=DURATION:PT1H
X-Robots-Tag:noindex
X-PUBLISHED-TTL:PT1H
BEGIN:VTIMEZONE
TZID:UTC
BEGIN:STANDARD
TZOFFSETFROM:+0000
TZOFFSETTO:+0000
TZNAME:UTC
DTSTART:20240101T000000
END:STANDARD
END:VTIMEZONE
BEGIN:VEVENT
DTSTART;TZID=UTC:20251011T180000
DTEND;TZID=UTC:20251011T183000
DTSTAMP:20260420T231042
CREATED:20251003T165033Z
LAST-MODIFIED:20251122T092057Z
UID:5675-1760205600-1760207400@9usualsuspects.uk
SUMMARY:GCBDCQG Meet & Greet in Porthmadog 
DESCRIPTION:GCBDCQG Meet & Greet in Porthmadog by Hammer66 D1/T1\nWhen: Saturday 11th October 2025\nWhere: West Highland Railway Platform\, Porthmadog\nTime: 6pm to 6.30pm\nHammer66 is on holiday in the area and would like to meet local and not so local cachers to discuss our wonderful hobby.
URL:https://9usualsuspects.uk/event/gcbdcqg-meet-greet-in-porthmadog/
ORGANIZER;CN="9 Usual Suspects":MAILTO:admin@9usualsuspects.uk
END:VEVENT
END:VCALENDAR