BEGIN:VCALENDAR
VERSION:2.0
PRODID:-//9 Usual Suspects - ECPv6.15.20//NONSGML v1.0//EN
CALSCALE:GREGORIAN
METHOD:PUBLISH
X-ORIGINAL-URL:https://9usualsuspects.uk
X-WR-CALDESC:Events for 9 Usual Suspects
REFRESH-INTERVAL;VALUE=DURATION:PT1H
X-Robots-Tag:noindex
X-PUBLISHED-TTL:PT1H
BEGIN:VTIMEZONE
TZID:UTC
BEGIN:STANDARD
TZOFFSETFROM:+0000
TZOFFSETTO:+0000
TZNAME:UTC
DTSTART:20240101T000000
END:STANDARD
END:VTIMEZONE
BEGIN:VEVENT
DTSTART;TZID=UTC:20250305T110000
DTEND;TZID=UTC:20250305T120000
DTSTAMP:20260423T031845
CREATED:20250220T090525Z
LAST-MODIFIED:20250220T090525Z
UID:5098-1741172400-1741176000@9usualsuspects.uk
SUMMARY:GCB34PF CITO\, A487 North\, Another Quick Pick
DESCRIPTION:GCB34PF CITO\, A487 North\, Another Quick Pick by 9 Usual Suspects CITO D1/T4.5\nWhen: Wednesday 5th March 2025\nWhere: A487 North Lay by\nTime: 11am to 12pm
URL:https://9usualsuspects.uk/event/gcb34pf-cito-a487-north-another-quick-pick/
CATEGORIES:CITO,Geocaching Event,Souvenir
END:VEVENT
BEGIN:VEVENT
DTSTART;TZID=UTC:20250308T140000
DTEND;TZID=UTC:20250308T153000
DTSTAMP:20260423T031845
CREATED:20250220T090823Z
LAST-MODIFIED:20250220T090823Z
UID:5100-1741442400-1741447800@9usualsuspects.uk
SUMMARY:GCB34QK CITO 2025 Season 1 
DESCRIPTION:GCB34QK CITO 2025 Season 1 9 Usual Suspects CITO D1/T3\nWhen: Saturday 8th March 2025\nWhere: The Old Bridge\, Morfa Parc\, Caernarfon\nTime: 2pm – 3.30pm
URL:https://9usualsuspects.uk/event/gcb34qk-cito-2025-season-1/
END:VEVENT
BEGIN:VEVENT
DTSTART;TZID=UTC:20250308T153000
DTEND;TZID=UTC:20250308T163000
DTSTAMP:20260423T031845
CREATED:20250220T090958Z
LAST-MODIFIED:20250220T090958Z
UID:5102-1741447800-1741451400@9usualsuspects.uk
SUMMARY:GCB34RZ 9 Usual Suspects Cake and a Brew
DESCRIPTION:GCB34RZ 9 Usual Suspects Cake and a Brew by 9 Usual Suspects Event D1/T1\nWhen: Saturday 8th March 20254\nWhere: Old Bridge\, Parc Dre\, Caernarfon\nTime: 3.30pm to 4pm
URL:https://9usualsuspects.uk/event/gcb34rz-9-usual-suspects-cake-and-a-brew/
END:VEVENT
BEGIN:VEVENT
DTSTART;TZID=UTC:20250315T151400
DTEND;TZID=UTC:20250315T171400
DTSTAMP:20260423T031845
CREATED:20250304T105312Z
LAST-MODIFIED:20250304T105756Z
UID:5178-1742051640-1742058840@9usualsuspects.uk
SUMMARY:GCB3F98 Pi Day Party
DESCRIPTION:GCB3F98 Pi Day Party \nWhen: Saturday 15th March\, 2025\nWhere: Plas Gwernoer\, Nantlle LL54 6BB\nTime: 3.14pm to 5.14pm or when the last person leaves \nThe tradition to celebrate Pi Day began in the United States and has since gained worldwide recognition. We will be celebrating by sampling many different types of pies. \nSadly the 14th March falls on a Friday so we will be having our event 24 hours late!
URL:https://9usualsuspects.uk/event/gcb3f98-pi-day-party/
CATEGORIES:Geocaching Event,Souvenir
END:VEVENT
BEGIN:VEVENT
DTSTART;TZID=UTC:20250327T190000
DTEND;TZID=UTC:20250327T210000
DTSTAMP:20260423T031845
CREATED:20250317T104551Z
LAST-MODIFIED:20250317T104551Z
UID:5288-1743102000-1743109200@9usualsuspects.uk
SUMMARY:GCB496T 9 Usual Suspects – Nosh & Natter 76
DESCRIPTION:GCB496T 9 Usual Suspects – Nosh & Natter 76 by 9 Usual Suspects Event D1/T1\nWhen: Thursday 27th March\, 2025\nWhere: Parc Snowdonia\, Waunfawr\, Caernarfon\, Gwynedd LL55 4AQ\nTime: 7pm to 9pm or when the last person leaves
URL:https://9usualsuspects.uk/event/gcb496t-9-usual-suspects-nosh-natter-76/
CATEGORIES:Geocaching Event
END:VEVENT
END:VCALENDAR